BEGIN:VCALENDAR
VERSION:2.0
PRODID:-//Mississippi Coast Radio Control Club - ECPv6.14.0//NONSGML v1.0//EN
CALSCALE:GREGORIAN
METHOD:PUBLISH
X-WR-CALNAME:Mississippi Coast Radio Control Club
X-ORIGINAL-URL:https://mcrcc.net
X-WR-CALDESC:Events for Mississippi Coast Radio Control Club
REFRESH-INTERVAL;VALUE=DURATION:PT1H
X-Robots-Tag:noindex
X-PUBLISHED-TTL:PT1H
BEGIN:VTIMEZONE
TZID:America/Chicago
BEGIN:DAYLIGHT
TZOFFSETFROM:-0600
TZOFFSETTO:-0500
TZNAME:CDT
DTSTART:20170312T080000
END:DAYLIGHT
BEGIN:STANDARD
TZOFFSETFROM:-0500
TZOFFSETTO:-0600
TZNAME:CST
DTSTART:20171105T070000
END:STANDARD
END:VTIMEZONE
BEGIN:VEVENT
DTSTART;VALUE=DATE:20171014
DTEND;VALUE=DATE:20171015
DTSTAMP:20260421T053432
CREATED:20170821T220347Z
LAST-MODIFIED:20171006T210144Z
UID:592-1507939200-1508025599@mcrcc.net
SUMMARY:2017 KAMS Fall Fly-In - Ocean Springs
DESCRIPTION:The KAMS fly-in in Ocean Springs is postponed to Saturday October 14 due to Hurricane Nate.
URL:https://mcrcc.net/event/2017-kams-fall-fly/
LOCATION:Ludlow Field\, Ocean Springs\, MS
CATEGORIES:Nearby Clubs
END:VEVENT
BEGIN:VEVENT
DTSTART;VALUE=DATE:20170826
DTEND;VALUE=DATE:20170827
DTSTAMP:20260421T053432
CREATED:20170823T234538Z
LAST-MODIFIED:20170823T234538Z
UID:631-1503705600-1503791999@mcrcc.net
SUMMARY:Warbirds Over Mobile
DESCRIPTION:Warbirds Over Mobile flyin this Saturday! All welcome. Drawings for engine\, batteries\,and planes! Please attend.
URL:https://mcrcc.net/event/warbirds-over-mobile/
LOCATION:Azaela City Model Aeronautics (Mobile)
CATEGORIES:Nearby Clubs
END:VEVENT
END:VCALENDAR